BEGIN:VCALENDAR
VERSION:2.0
PRODID:-//Ballettstudio Véronique Jaguelin - ECPv6.15.11//NONSGML v1.0//EN
CALSCALE:GREGORIAN
METHOD:PUBLISH
X-WR-CALNAME:Ballettstudio Véronique Jaguelin
X-ORIGINAL-URL:https://ballett-veronique.de
X-WR-CALDESC:Veranstaltungen für Ballettstudio Véronique Jaguelin
REFRESH-INTERVAL;VALUE=DURATION:PT1H
X-Robots-Tag:noindex
X-PUBLISHED-TTL:PT1H
BEGIN:VTIMEZONE
TZID:Europe/Berlin
BEGIN:DAYLIGHT
TZOFFSETFROM:+0100
TZOFFSETTO:+0200
TZNAME:CEST
DTSTART:20250330T010000
END:DAYLIGHT
BEGIN:STANDARD
TZOFFSETFROM:+0200
TZOFFSETTO:+0100
TZNAME:CET
DTSTART:20251026T010000
END:STANDARD
BEGIN:DAYLIGHT
TZOFFSETFROM:+0100
TZOFFSETTO:+0200
TZNAME:CEST
DTSTART:20260329T010000
END:DAYLIGHT
BEGIN:STANDARD
TZOFFSETFROM:+0200
TZOFFSETTO:+0100
TZNAME:CET
DTSTART:20261025T010000
END:STANDARD
BEGIN:DAYLIGHT
TZOFFSETFROM:+0100
TZOFFSETTO:+0200
TZNAME:CEST
DTSTART:20270328T010000
END:DAYLIGHT
BEGIN:STANDARD
TZOFFSETFROM:+0200
TZOFFSETTO:+0100
TZNAME:CET
DTSTART:20271031T010000
END:STANDARD
END:VTIMEZONE
BEGIN:VEVENT
DTSTART;VALUE=DATE:20261030
DTEND;VALUE=DATE:20261101
DTSTAMP:20260423T115721
CREATED:20250620T153530Z
LAST-MODIFIED:20250620T153530Z
UID:10105-1793318400-1793491199@ballett-veronique.de
SUMMARY:Ballettvorstellungen 2026
DESCRIPTION:Die genauen Termine finden Sie rechtzeitig auf unserer Website.
URL:https://ballett-veronique.de/event/ballettvorstellungen-2026/
END:VEVENT
END:VCALENDAR