BEGIN:VCALENDAR
VERSION:2.0
PRODID:-//Ballettstudio Véronique Jaguelin - ECPv6.15.11//NONSGML v1.0//EN
CALSCALE:GREGORIAN
METHOD:PUBLISH
X-ORIGINAL-URL:https://ballett-veronique.de
X-WR-CALDESC:Veranstaltungen für Ballettstudio Véronique Jaguelin
REFRESH-INTERVAL;VALUE=DURATION:PT1H
X-Robots-Tag:noindex
X-PUBLISHED-TTL:PT1H
BEGIN:VTIMEZONE
TZID:Europe/Berlin
BEGIN:DAYLIGHT
TZOFFSETFROM:+0100
TZOFFSETTO:+0200
TZNAME:CEST
DTSTART:20210328T010000
END:DAYLIGHT
BEGIN:STANDARD
TZOFFSETFROM:+0200
TZOFFSETTO:+0100
TZNAME:CET
DTSTART:20211031T010000
END:STANDARD
BEGIN:DAYLIGHT
TZOFFSETFROM:+0100
TZOFFSETTO:+0200
TZNAME:CEST
DTSTART:20220327T010000
END:DAYLIGHT
BEGIN:STANDARD
TZOFFSETFROM:+0200
TZOFFSETTO:+0100
TZNAME:CET
DTSTART:20221030T010000
END:STANDARD
BEGIN:DAYLIGHT
TZOFFSETFROM:+0100
TZOFFSETTO:+0200
TZNAME:CEST
DTSTART:20230326T010000
END:DAYLIGHT
BEGIN:STANDARD
TZOFFSETFROM:+0200
TZOFFSETTO:+0100
TZNAME:CET
DTSTART:20231029T010000
END:STANDARD
END:VTIMEZONE
BEGIN:VEVENT
DTSTART;VALUE=DATE:20221022
DTEND;VALUE=DATE:20221024
DTSTAMP:20260425T003015
CREATED:20220411T191210Z
LAST-MODIFIED:20220411T191210Z
UID:9733-1666396800-1666569599@ballett-veronique.de
SUMMARY:Ballettvorstellung 2022: Die 4 Elemente & Coppelia
DESCRIPTION:Nach dem Corona-bedingten Schwenk auf eine reine Video-Aufzeichnung vor zwei Jahren freuen wir uns sehr darauf\, Sie bei unserer diesjährigen Ballettvorstellung wieder persönlich begrüßen zu dürfen! \nAuch diesmal wird es zwei Vorführungen in der Kaltenhalle in Rheinstetten-Mörsch geben. Seien Sie gespannt und halten Sie sich die Termine frei: 22. & 23. Oktober.
URL:https://ballett-veronique.de/event/ballettvorstellung-2022-die-4-elemente-coppelia/
LOCATION:Keltenhalle Rheinstetten-Mörsch
END:VEVENT
END:VCALENDAR